Workbook
Name ChargesQ1: Charges!$K$16
Name ChargesQ1_1_End: Charges!$F$23
Name ChargesQ1_1_Field: Templates!$DC$4:$DC$8
Name ChargesQ1_1_Full: Templates!$CY$4:$DC$8
Name ChargesQ1_1_Start: Charges!$F$18
Name ChargesQ1_2_End: Charges!$F$29
Name ChargesQ1_2_Field: Templates!$DJ$4:$DJ$7
Name ChargesQ1_2_Full: Templates!$DF$4:$DJ$7
Name ChargesQ1_2_Start: Charges!$F$25
Name ChargesQ2: Charges!$K$30
Name ChargesQ2_1_End: Charges!$F$37
Name ChargesQ2_1_Field: Templates!$DQ$4:$DQ$8
Name ChargesQ2_1_Full: Templates!$DM$4:$DQ$8
Name ChargesQ2_1_Start: Charges!$F$32
Name ChargesQ2_2_End: Charges!$F$44
Name ChargesQ2_2_Field: Templates!$DX$4:$DX$8
Name ChargesQ2_2_Full: Templates!$DT$4:$DX$8
Name ChargesQ2_2_Start: Charges!$F$39
Name ChargesQ3: Charges!$K$45
Name ChargesQ3_1_End: Charges!$F$51
Name ChargesQ3_1_Field: Templates!$EE$4:$EE$7
Name ChargesQ3_1_Full: Templates!$EA$4:$EE$7
Name ChargesQ3_1_Start: Charges!$F$47
Name ChargesQ3_2: Charges!$K$52
Name ChargesQ3_3_End: Charges!$F$60
Name ChargesQ3_3_Field: Templates!$EL$4:$EL$9
Name ChargesQ3_3_Full: Templates!$EH$4:$EL$9
Name ChargesQ3_3_Start: Charges!$F$54
Name ChargesQ4: Charges!$K$61
Name ChargesQ4_1_End: Charges!$F$69
Name ChargesQ4_1_Field: Templates!$ES$4:$ES$9
Name ChargesQ4_1_Full: Templates!$EO$4:$ES$9
Name ChargesQ4_1_Start: Charges!$F$63
Name ChargesQ4_2_End: Charges!$E$74
Name ChargesQ4_2_Start: Charges!$E$71
Name ChargesQ5: Charges!$K$75
Name ChargesQ5_1_End: Charges!$F$81
Name ChargesQ5_1_Field: Templates!$EZ$4:$EZ$7
Name ChargesQ5_1_Full: Templates!$EV$4:$EZ$7
Name ChargesQ5_1_Start: Charges!$F$77
Name ChargesQ5_2_End: Charges!$E$86
Name ChargesQ5_2_Start: Charges!$E$83
Name ChargesQ6: Charges!$K$87
Name ChargesQ6_1_End: Charges!$F$95
Name ChargesQ6_1_Field: Templates!$FG$4:$FG$9
Name ChargesQ6_1_Full: Templates!$FC$4:$FG$9
Name ChargesQ6_1_Start: Charges!$F$89
Name ChargesQ6_2_End: Charges!$E$100
Name ChargesQ6_2_Start: Charges!$E$97
Name CheckingCalcSection1: ForChecking!$X$7
Name CheckingCalcSection2: ForChecking!$Z$7
Name CheckingCalcSection3: ForChecking!$AB$7
Name CheckingCalcSection4: ForChecking!$AD$7
Name CheckingCalcSection5: ForChecking!$AF$7
Name CheckingCalcSection6: ForChecking!$AH$7
Name CriminalRelationQ1: CriminalRelation!$K$16
Name CriminalRelationQ1_1_End: CriminalRelation!$F$23
Name CriminalRelationQ1_1_Rows: CriminalRelation!$E$19:$E$22
Name CriminalRelationQ1_1_Start: CriminalRelation!$F$18
Name CriminalRelationQ2: CriminalRelation!$K$24

Sheet Main
I14: Հարցաթերթիկի ներկայացման ամսաթիվը
G19: ԹԵԿՆԱԾՈՒԻ ԲԱՐԵՎԱՐՔՈՒԹՅԱՆ ՎԵՐԱԲԵՐՅԱԼ ՀԱՐՑԱԹԵՐԹԻԿ

Sheet PersonalInfo
B13: Completeness | C13: Check | D13: Check
B14: 1 | C14: 0) | D14: =IF(QuestionnaireDate="",C14,"Ok") -> 0)
E15: ԹԵԿՆԱԾՈՒԻ ԲԱՐԵՎԱՐՔՈՒԹՅԱՆ ՎԵՐԱԲԵՐՅԱԼ ՀԱՐՑԱԹԵՐԹԻԿ
E17: 1. ԹԵԿՆԱԾՈՒԻ ԿԵՆՍԱԳՐԱԿԱՆ ՏՎՅԱԼՆԵՐ
E19: ԿԵՆՍԱԳՐԱԿԱՆ ՏՎՅԱԼՆԵՐ
B21: 1 | E21: 1) | F21: Անուն | H21: Ազգանուն | J21: Հայրանուն
C22: =E21 -> 1) | D22: =IF(OR(F22="",H22="",J22=""),C22,"Ok") -> 1)
B24: 1 | C24: =E24 -> 2) | D24: =IF(PersionalInfoQ2="",C24,"Ok") -> 2) | E24: 2) | F24: Արդյոք օգտագործե՞լ եք այլ անուն, ազգանուն՝
E25: 2.1) | F25: Եթե այո, ապա նշեք՝
B26: 1 | C26: =E25 -> 2.1) | F26: Համար | G26: 1
C27: 1 | D27: =IF(AND(PersionalInfoQ2=ForCodesYES,COUNTA(INDIRECT("$F"&ROW()-C27&":$K"&ROW()-C27))<>COUNTA(INDIRECT("$F"&ROW()&":$K"&ROW()))),OFFSET(D27,-C27,-1),"Ok") -> Ok | F27: Օգտագործված անունը,ազգանունը
C28: 2 | D28: =IF(AND(PersionalInfoQ2=ForCodesYES,COUNTA(INDIRECT("$F"&ROW()-C28&":$K"&ROW()-C28))<>COUNTA(INDIRECT("$F"&ROW()&":$K"&ROW()))),OFFSET(D28,-C28,-1),"Ok") -> Ok | F28: Oտագործելու Ժամանակահատվածի սկիզբ
C29: 3 | F29: Oտագործելու Ժամանակահատվածի ավարտ
C30: 4 | F30: Անվան, ազգանվան փոփոխության պատճառը/փոփոխված անվան օգտագործման դադարեցման պատճառը
B32: 1 | E32: 3) | F32: Ծննդյան օր | H32: Ծննդյան ամիս | J32: Ծննդյան տարի
C33: =E32 -> 3) | D33: =IF(OR(F33="",H33="",J33=""),C33,"Ok") -> 3)
B35: 1 | E35: 4) | F35: Հանրային ծառայությունների համարանիշ | H35: Անձնագրի սերիա և համար | I35: Կենսաչափական անձնագրի սերիա և համար | J35: Նույնականացման քարտի համար
C36: =E35 -> 4) | D36: =IF(OR(F36="",AND(H36="",I36="",J36="")),C36,"Ok") -> 4)
B38: 1 | E38: 5) | F38: Հաշվառման հասցե
F39: մարզ | G39: քաղաք | H39: փողոց | J39: շենք | K39: բնակարան
C40: =E38 -> 5) | D40: =IF(OR(F40="",G40="",H40="",AND(J40="",K40="")),C40,"Ok") -> 5)
B42: 1 | C42: =E42 -> 6) | D42: =IF(PersionalInfoQ6="",C42,"Ok") -> 6) | E42: 6) | F42: Արդյոք փաստացի բնակության հասցեն տարբերվու՞մ է հաշվառման հասցեից՝
E43: 6.1) | F43: Եթե այո, ապա նշեք փաստացի բնակության հասցեն՝
F44: մարզ | G44: քաղաք | H44: փողոց | J44: շենք | K44: բնակարան
B45: 1 | C45: =E43 -> 6.1) | D45: =IF(AND(PersionalInfoQ6=ForCodesYES,OR(F45="",G45="",H45="",AND(J45="",K45=""))),C45,"Ok") -> Ok
B47: 1 | E47: 7) | F47: Բջջային հեռախոսահամար | I47: Քաղաքային հեռախոսահամար (եթե առկա է)
C48: =E47 -> 7) | D48: =IF(F48="",C48,"Ok") -> 7)
B50: 1 | E50: 8) | F50: Էլեկտրոնային փոստի հասցե
C51: =E50 -> 8) | D51: =IF(F51="",C51,"Ok") -> 8)
B53: 1 | C53: =E53 -> 9) | D53: =IF(PersionalInfoQ9="",C53,"Ok") -> 9) | E53: 9) | F53: Արդյոք վերջին 5 տարում ունեցե՞լ եք բնակության այլ հասցեներ
B54: 1 | E54: 9.1) | F54: Եթե այո, ապա նշեք՝ (խնդրում ենք թվարկել հակառակ ժամանակագրական հերթականությամբ)
C55: =E54 -> 9.1) | F55: Համար | G55: 1
C56: 1 | D56: =IF(AND(PersionalInfoQ9=ForCodesYES,COUNTA(INDIRECT("$F"&ROW()-C56&":$K"&ROW()-C56))<>COUNTA(INDIRECT("$F"&ROW()&":$K"&ROW()))),OFFSET(D56,-C56,-1),"Ok") -> Ok | F56: Մարզ
C57: 2 | D57: =IF(AND(PersionalInfoQ9=ForCodesYES,COUNTA(INDIRECT("$F"&ROW()-C57&":$K"&ROW()-C57))<>COUNTA(INDIRECT("$F"&ROW()&":$K"&ROW()))),OFFSET(D57,-C57,-1),"Ok") -> Ok | F57: Քաղաք
C58: 3 | D58: =IF(AND(PersionalInfoQ9=ForCodesYES,COUNTA(INDIRECT("$F"&ROW()-C58&":$K"&ROW()-C58))<>COUNTA(INDIRECT("$F"&ROW()&":$K"&ROW()))),OFFSET(D58,-C58,-1),"Ok") -> Ok | F58: Փողոց
C59: 4 | D59: =IF(AND(PersionalInfoQ9=ForCodesYES,COUNTA(INDIRECT("$F"&ROW()-C59&":$K"&ROW()-C59))<>COUNTA(INDIRECT("$F"&ROW()&":$K"&ROW()))),OFFSET(D59,-C59,-1),"Ok") -> Ok | F59: Շենք
C60: 5 | D60: =IF(AND(PersionalInfoQ9=ForCodesYES,COUNTA(INDIRECT("$F"&ROW()-C60&":$K"&ROW()-C60))<>COUNTA(INDIRECT("$F"&ROW()&":$K"&ROW()))),OFFSET(D60,-C60,-1),"Ok") -> Ok | F60: Բնակարան
C61: 6 | D61: =IF(AND(PersionalInfoQ9=ForCodesYES,COUNTA(INDIRECT("$F"&ROW()-C61&":$K"&ROW()-C61))<>COUNTA(INDIRECT("$F"&ROW()&":$K"&ROW()))),OFFSET(D61,-C61,-1),"Ok") -> Ok | F61: Բնակվելու ժամանակահատվածի սկիզբ
C62: 7 | F62: Բնակվելու ժամանակահատվածի ավարտ
C64: =E64 -> 10) | E64: 10) | F64: Լրացուցիչ տեղեկություններ
...

Sheet EducWork
B13: Completeness | C13: Check | D13: Check
E14: 2. ԹԵԿՆԱԾՈՒԻ ԿՐԹՈՒԹՅԱՆ, ԱՇԽԱՏԱՆՔԱՅԻՆ ՓՈՐՁԻ՝ ՆԵՐԱՌՅԱԼ ՈՒՍՈՒՄՆԱԿԱՆ ՀԱՍՏԱՏՈՒԹՅՈՒՆՆԵՐԻ ԵՎ ԳՈՐԾԱՏՈՒՆԵՐԻ ԱՆՎԱՆՈՒՄՆԵՐԻ, ԶԲԱՂԵՑՐԱԾ ՊԱՇՏՈՆԻ (ՊԱՇՏՈՆՆԵՐԻ) ՎԵՐԱԲԵՐՅԱԼ ՏԵՂԵԿՈՒԹՅՈՒՆՆԵՐ
E16: 1) | F16: Դպրոցական կրթություն
B17: 1 | C17: =E16 -> 1) | F17: Համար | G17: 1
C18: 1 | D18: =IF(COUNTA(INDIRECT("$F"&ROW()-C18&":$K"&ROW()-C18))<>COUNTA(INDIRECT("$F"&ROW()&":$K"&ROW())),OFFSET(D18,-C18,-1),"Ok") -> 1) | F18: Դպրոցի անվանումը
C19: 2 | D19: =IF(COUNTA(INDIRECT("$F"&ROW()-C19&":$K"&ROW()-C19))<>COUNTA(INDIRECT("$F"&ROW()&":$K"&ROW())),OFFSET(D19,-C19,-1),"Ok") -> 1) | F19: Սկիզբ (տարեթիվը)
C20: 3 | F20: Ավարտ (տարեթիվը)
C21: 4 | F21: Ստացած վկայականը
B23: 1 | C23: =E23 -> 2) | D23: =IF(EducWorkQ2="",C23,"Ok") -> 2) | E23: 2) | F23: Արդյոք ստացե՞լ եք նախնական (արհեստագործական) կամ միջին մասնագիտական կրթություն
E24: 2.1) | F24: Եթե այո, ապա նշեք՝
B25: 1 | C25: =E24 -> 2.1) | F25: Համար | G25: 1
C26: 1 | D26: =IF(AND(EducWorkQ2=ForCodesYES,COUNTA(INDIRECT("$F"&ROW()-C26&":$K"&ROW()-C26))<>COUNTA(INDIRECT("$F"&ROW()&":$K"&ROW()))),OFFSET(D26,-C26,-1),"Ok") -> Ok | F26: Կրթական հաստատության անվանումը
C27: 2 | D27: =IF(AND(EducWorkQ2=ForCodesYES,COUNTA(INDIRECT("$F"&ROW()-C27&":$K"&ROW()-C27))<>COUNTA(INDIRECT("$F"&ROW()&":$K"&ROW()))),OFFSET(D27,-C27,-1),"Ok") -> Ok | F27: Սկիզբ (օրը, ամիսը, տարին)
C28: 3 | F28: Ավարտ (օրը, ամիսը, տարին)
C29: 4 | D29: =IF(AND(EducWorkQ2=ForCodesYES,COUNTA(INDIRECT("$F"&ROW()-C29&":$K"&ROW()-C29))<>COUNTA(INDIRECT("$F"&ROW()&":$K"&ROW()))),OFFSET(D29,-C29,-1),"Ok") -> Ok | F29: Ստացած վկայականը (որակավորումը)
E31: 3) | F31: Բարձրագույն կրթություն
B32: 1 | C32: =E31 -> 3) | F32: Համար | G32: 1
C33: 1 | D33: =IF(COUNTA(INDIRECT("$F"&ROW()-C33&":$K"&ROW()-C33))<>COUNTA(INDIRECT("$F"&ROW()&":$K"&ROW())),OFFSET(D33,-C33,-1),"Ok") -> 3) | F33: Կրթական հաստատության անվանումը
C34: 2 | D34: =IF(COUNTA(INDIRECT("$F"&ROW()-C34&":$K"&ROW()-C34))<>COUNTA(INDIRECT("$F"&ROW()&":$K"&ROW())),OFFSET(D34,-C34,-1),"Ok") -> 3) | F34: Սկիզբ (օրը, ամիսը, տարին)
C35: 3 | F35: Ավարտ (օրը, ամիսը, տարին)
C36: 4 | D36: =IF(COUNTA(INDIRECT("$F"&ROW()-C36&":$K"&ROW()-C36))<>COUNTA(INDIRECT("$F"&ROW()&":$K"&ROW())),OFFSET(D36,-C36,-1),"Ok") -> 3) | F36: Ստացած ավարտական փաստաթուղթը, (կրթական աստիճանը)
C37: 5 | F37: Ավարտական աշխատանքի թեման (եթե առկա է)
B39: 1 | C39: =E39 -> 4) | D39: =IF(EducWorkQ4="",C39,"Ok") -> 4) | E39: 4) | F39: Արդյոք ստացե՞լ եք հետբուհական կրթություն
E40: 4.1) | F40: Եթե այո, ապա նշեք՝
B41: 1 | C41: =E40 -> 4.1) | F41: Համար | G41: 1
C42: 1 | D42: =IF(AND(EducWorkQ4=ForCodesYES,COUNTA(INDIRECT("$F"&ROW()-C42&":$K"&ROW()-C42))<>COUNTA(INDIRECT("$F"&ROW()&":$K"&ROW()))),OFFSET(D42,-C42,-1),"Ok") -> Ok | F42: Կրթական հաստատության անվանումը
C43: 2 | D43: =IF(AND(EducWorkQ4=ForCodesYES,COUNTA(INDIRECT("$F"&ROW()-C43&":$K"&ROW()-C43))<>COUNTA(INDIRECT("$F"&ROW()&":$K"&ROW()))),OFFSET(D43,-C43,-1),"Ok") -> Ok | F43: Սկիզբ (օրը, ամիսը, տարին)
C44: 3 | F44: Ավարտ (օրը, ամիսը, տարին)
C45: 4 | D45: =IF(AND(EducWorkQ4=ForCodesYES,COUNTA(INDIRECT("$F"&ROW()-C45&":$K"&ROW()-C45))<>COUNTA(INDIRECT("$F"&ROW()&":$K"&ROW()))),OFFSET(D45,-C45,-1),"Ok") -> Ok | F45: Ստացած վկայականը (կրթական աստիճանը)
C46: 5 | F46: Ավարտական աշխատանքի թեման (եթե առկա է)
B48: 1 | C48: =E48 -> 5) | D48: =IF(EducWorkQ5="",C48,"Ok") -> 5) | E48: 5) | F48: Արդյոք ստացե՞լ եք անվանական կրթաթոշակներ և կրթական դրամաշնորհներ
E49: 5.1) | F49: Եթե այո, ապա նշեք՝
B50: 1 | C50: =E49 -> 5.1) | F50: Համար | G50: 1
C51: 1 | D51: =IF(AND(EducWorkQ5=ForCodesYES,COUNTA(INDIRECT("$F"&ROW()-C51&":$K"&ROW()-C51))<>COUNTA(INDIRECT("$F"&ROW()&":$K"&ROW()))),OFFSET(D51,-C51,-1),"Ok") -> Ok | F51: Կրթաթոշակի/դրամաշնորհի տեսակը/անվանումը
C52: 2 | D52: =IF(AND(EducWorkQ5=ForCodesYES,COUNTA(INDIRECT("$F"&ROW()-C52&":$K"&ROW()-C52))<>COUNTA(INDIRECT("$F"&ROW()&":$K"&ROW()))),OFFSET(D52,-C52,-1),"Ok") -> Ok | F52: Սկիզբ (ամիսը, տարին)
C53: 3 | F53: Ավարտ (ամիսը, տարին)
C54: 4 | D54: =IF(AND(EducWorkQ5=ForCodesYES,COUNTA(INDIRECT("$F"&ROW()-C54&":$K"&ROW()-C54))<>COUNTA(INDIRECT("$F"&ROW()&":$K"&ROW()))),OFFSET(D54,-C54,-1),"Ok") -> Ok | F54: Կրթաթոշակի/դրամաշնորհի չափը
C55: 5 | D55: =IF(AND(EducWorkQ5=ForCodesYES,COUNTA(INDIRECT("$F"&ROW()-C55&":$K"&ROW()-C55))<>COUNTA(INDIRECT("$F"&ROW()&":$K"&ROW()))),OFFSET(D55,-C55,-1),"Ok") -> Ok | F55: Տրամադրող կազմակերպությունը
C56: 6 | F56: Կրթաթոշակը/դրամաշնորհը դադարեցնելու պատճառը (եթե վերաբերելի է)
C57: 7 | F57: Մեկնաբանություններ
...

Sheet Relation
B13: Completeness | C13: Check | D13: Check
E14: 3. ԹԵԿՆԱԾՈՒԻ՝ ՇԱՀԵՐԻ ՎԵՐԱԲԵՐՅԱԼ ՏԵՂԵԿՈՒԹՅՈՒՆՆԵՐ
B16: 1 | C16: =E16 -> 1) | D16: =IF(RelationQ1="",C16,"Ok") -> 1) | E16: 1) | F16: Արդյոք ունե՞ք «Հանրային ծառայության մասին» օրենքի իմաստով մերձավոր ազգակցությամբ կամ խնամիությամբ կապված անձ, ով զբաղեցնում է «Հանրային ծառայության մասին» օրենքի իմաստով հանրային պաշտոն
E17: 1.1) | F17: Եթե այո, ապա նշեք՝
B18: 1 | C18: =E17 -> 1.1) | F18: Համար | G18: 1
C19: 1 | D19: =IF(AND(RelationQ1=ForCodesYES,COUNTA(INDIRECT("$F"&ROW()-C19&":$K"&ROW()-C19))<>COUNTA(INDIRECT("$F"&ROW()&":$K"&ROW()))),OFFSET(D19,-C19,-1),"Ok") -> Ok | F19: Կապը թեկնածուի հետ
C20: 2 | D20: =IF(AND(RelationQ1=ForCodesYES,COUNTA(INDIRECT("$F"&ROW()-C20&":$K"&ROW()-C20))<>COUNTA(INDIRECT("$F"&ROW()&":$K"&ROW()))),OFFSET(D20,-C20,-1),"Ok") -> Ok | F20: Անունը, ազգանունը, հայրանունը
C21: 3 | D21: =IF(AND(RelationQ1=ForCodesYES,COUNTA(INDIRECT("$F"&ROW()-C21&":$K"&ROW()-C21))<>COUNTA(INDIRECT("$F"&ROW()&":$K"&ROW()))),OFFSET(D21,-C21,-1),"Ok") -> Ok | F21: Գործատուի անվանումը
C22: 4 | D22: =IF(AND(RelationQ1=ForCodesYES,COUNTA(INDIRECT("$F"&ROW()-C22&":$K"&ROW()-C22))<>COUNTA(INDIRECT("$F"&ROW()&":$K"&ROW()))),OFFSET(D22,-C22,-1),"Ok") -> Ok | F22: Զբաղեցրած պաշտոնը
C23: 5 | D23: =IF(AND(RelationQ1=ForCodesYES,COUNTA(INDIRECT("$F"&ROW()-C23&":$K"&ROW()-C23))<>COUNTA(INDIRECT("$F"&ROW()&":$K"&ROW()))),OFFSET(D23,-C23,-1),"Ok") -> Ok | F23: Պաշտոնավարման ժամկետի սկիզբ (օրը, ամիսը, տարին)
C24: 6 | F24: Պաշտոնավարման ժամկետի ավարտ (օրը, ամիսը, տարին)
B26: 1 | C26: =E26 -> 2) | D26: =IF(RelationQ3="",C26,"Ok") -> 2) | E26: 2) | F26: Արդյոք առկա՞ է Ձեր կամ «Հանրային ծառայության մասին» օրենքի իմաստով Ձեր ընտանիքի անդամի անդամակցություն կուսակցություններին և ներկայացվածություն դրանց կառավարման, վարչական կամ վերահսկողական մարմիններում (վերջին 3 տարիների ընթացքում)
E27: 2.1) | F27: Եթե այո, ապա նշեք՝
B28: 1 | C28: =E27 -> 2.1) | F28: Համար | G28: 1
C29: 1 | D29: =IF(AND(RelationQ3=ForCodesYES,COUNTA(INDIRECT("$F"&ROW()-C29&":$K"&ROW()-C29))<>COUNTA(INDIRECT("$F"&ROW()&":$K"&ROW()))),OFFSET(D29,-C29,-1),"Ok") -> Ok | F29: Կուսակցության անվանումը
C30: 2 | D30: =IF(AND(RelationQ3=ForCodesYES,COUNTA(INDIRECT("$F"&ROW()-C30&":$K"&ROW()-C30))<>COUNTA(INDIRECT("$F"&ROW()&":$K"&ROW()))),OFFSET(D30,-C30,-1),"Ok") -> Ok | F30: Կուսակցության անդամ հանդիսացող անձի անունը, ազգանունը, հայրանունը
C31: 3 | D31: =IF(AND(RelationQ3=ForCodesYES,COUNTA(INDIRECT("$F"&ROW()-C31&":$K"&ROW()-C31))<>COUNTA(INDIRECT("$F"&ROW()&":$K"&ROW()))),OFFSET(D31,-C31,-1),"Ok") -> Ok | F31: Կուսակցությունում անձի կարգավիճակը
C32: 4 | D32: =IF(AND(RelationQ3=ForCodesYES,COUNTA(INDIRECT("$F"&ROW()-C32&":$K"&ROW()-C32))<>COUNTA(INDIRECT("$F"&ROW()&":$K"&ROW()))),OFFSET(D32,-C32,-1),"Ok") -> Ok | F32: Սկիզբը (օրը, ամիսը, տարին)
C33: 5 | F33: Ավարտը (օրը, ամիսը, տարին)
C34: 6 | F34: Կուսակցությունից դուրս գալու պատճառը (եթե վերաբերելի է)
B36: 1 | C36: =E36 -> 3) | D36: =IF(RelationQ4="",C36,"Ok") -> 3) | E36: 3) | F36: Արդյոք Դուք օգտագործում ե՞ք կամ վերջին 3 տարիների ընթացքում օգտագործել ե՞ք սոցիալական ցանցերի օգտահաշիվներ
E37: 3.1) | F37: Եթե այո, ապա նշեք՝
B38: 1 | C38: =E37 -> 3.1) | F38: Համար | G38: 1
C39: 1 | D39: =IF(AND(RelationQ4=ForCodesYES,COUNTA(INDIRECT("$F"&ROW()-C39&":$K"&ROW()-C39))<>COUNTA(INDIRECT("$F"&ROW()&":$K"&ROW()))),OFFSET(D39,-C39,-1),"Ok") -> Ok | F39: Սոցիալական ցանցի անվանումը
C40: 2 | D40: =IF(AND(RelationQ4=ForCodesYES,COUNTA(INDIRECT("$F"&ROW()-C40&":$K"&ROW()-C40))<>COUNTA(INDIRECT("$F"&ROW()&":$K"&ROW()))),OFFSET(D40,-C40,-1),"Ok") -> Ok | F40: Օգտատիրոջ հղումը
C41: 3 | D41: =IF(AND(RelationQ4=ForCodesYES,COUNTA(INDIRECT("$F"&ROW()-C41&":$K"&ROW()-C41))<>COUNTA(INDIRECT("$F"&ROW()&":$K"&ROW()))),OFFSET(D41,-C41,-1),"Ok") -> Ok | F41: Սկիզբը (օրը, ամիսը, տարին)
C42: 4 | F42: Ավարտը (օրը, ամիսը, տարին)
C43: 5 | F43: Օգտահաշվի դադարեցման դեպքում՝ պատճառը
C45: =E45 -> 4) | E45: 4) | F45: Լրացուցիչ տեղեկություններ
C46: 1 | D46: =IF(F46="",C45,"Ok") -> 4)

Sheet Charges
B13: Completeness | C13: Check | D13: Check
E14: 4. ԹԵԿՆԱԾՈՒԻ ՔՐԵԱԿԱՆ, ՎԱՐՉԱԿԱՆ ԿԱՄ ԿԱՐԳԱՊԱՀԱԿԱՆ ՊԱՏԱՍԽԱՆԱՏՎՈՒԹՅԱՆ ԵՆԹԱՐԿՎԱԾ ԼԻՆԵԼՈՒ, ՆՐԱ ՆԿԱՏՄԱՄԲ ՈՉ ՌԵԱԲԻԼԻՏԱՑՆՈՂ ՀԻՄՔՈՎ ՔՐԵԱԿԱՆ ՀԵՏԱՊՆԴՈՒՄ ՉՀԱՐՈՒՑԵԼՈՒ ԿԱՄ ՔՐԵԱԿԱՆ ՀԵՏԱՊՆԴՈՒՄԸ ԴԱԴԱՐԵՑՆԵԼՈՒ ՄԱՍԻՆ ՈՐՈՇՈՒՄ ԿԱՅԱՑՎԱԾ ԼԻՆԵԼՈՒ, ՀԱՅՑՎՈՐ ԿԱՄ ՊԱՏԱՍԽԱՆՈՂ ՀԱՆԴԻՍԱՆԱԼՈՒ ՎԵՐԱԲԵՐՅԱԼ ՏԵՂԵԿՈՒԹՅՈՒՆ
B16: 1 | C16: =E16 -> 1) | D16: =IF(ChargesQ1="",C16,"Ok") -> 1) | E16: 1) | F16: Արդյո՞ք վերջին 10 տարիների ընթացքում կարգապահական պատասխանատվության ենթարկվել եք
E17: 1.1) | F17: Եթե այո, ապա նշեք՝
B18: 1 | C18: =E17 -> 1.1) | F18: Համար | G18: 1
C19: 1 | D19: =IF(AND(ChargesQ1=ForCodesYES,COUNTA(INDIRECT("$F"&ROW()-C19&":$K"&ROW()-C19))<>COUNTA(INDIRECT("$F"&ROW()&":$K"&ROW()))),OFFSET(D19,-C19,-1),"Ok") -> Ok | F19: Օրը, ամիսը, տարին
C20: 2 | D20: =IF(AND(ChargesQ1=ForCodesYES,COUNTA(INDIRECT("$F"&ROW()-C20&":$K"&ROW()-C20))<>COUNTA(INDIRECT("$F"&ROW()&":$K"&ROW()))),OFFSET(D20,-C20,-1),"Ok") -> Ok | F20: Հաստատության (կազմակերպության) անվանումը
C21: 3 | D21: =IF(AND(ChargesQ1=ForCodesYES,COUNTA(INDIRECT("$F"&ROW()-C21&":$K"&ROW()-C21))<>COUNTA(INDIRECT("$F"&ROW()&":$K"&ROW()))),OFFSET(D21,-C21,-1),"Ok") -> Ok | F21: Կարգապահական պատասխանատվության տեսակը
C22: 4 | D22: =IF(AND(ChargesQ1=ForCodesYES,COUNTA(INDIRECT("$F"&ROW()-C22&":$K"&ROW()-C22))<>COUNTA(INDIRECT("$F"&ROW()&":$K"&ROW()))),OFFSET(D22,-C22,-1),"Ok") -> Ok | F22: Կարգապահական պատասխանատվության հիմքը
E24: 1.2) | F24: Կարգապահական պատասխանատվության ենթարկված լինելու վերաբերյալ այլ տեղեկություններ
B25: 1 | C25: =E24 -> 1.2) | F25: Համար
C26: 1 | D26: =IF(AND(ChargesQ1=ForCodesYES,COUNTA(INDIRECT("$F"&ROW()-C26&":$K"&ROW()-C26))<>COUNTA(INDIRECT("$F"&ROW()&":$K"&ROW()))),OFFSET(D26,-C26,-1),"Ok") -> Ok | F26: Հանգամանքների ամբողջական նկարագրությունը
C27: 2 | F27: Տեղեկություններ, եթե կարգապահական պատասխանատվության ենթարկելու վերաբերյալ որոշումը բողոքարկվել է և բողոքարկման հիմքը
C28: 3 | F28: Բողոքարկման արդյունքում կայացված ուժի մեջ մտած և վերջնական որոշումը (գործի համարը) (եթե վերաբերելի է)
B30: 1 | C30: =E30 -> 2) | D30: =IF(ChargesQ2="",C30,"Ok") -> 2) | E30: 2) | F30: Արդյո՞ք վերջին 5 տարվա ընթացքում վարչական պատասխանատվության ենթարկվել եք (ճանապարհային երթևեկության կանոնների և ավտոկայանատեղիների տեղական տուրքի վճարումների խախտման դեպքերով անհրաժեշտ է նշել վերջին 1 տարվա տվյալները)
E31: 2.1) | F31: Եթե այո, ապա նշեք՝ (տեղեկատվությունն անհրաժեշտ է ներկայացնել Վարչական իրավախախտումների վերաբերյալ օրենսգրքի իրավակարգավորումների համատեքստում)
B32: 1 | C32: =E31 -> 2.1) | F32: Համար | G32: 1
C33: 1 | D33: =IF(AND(ChargesQ2=ForCodesYES,COUNTA(INDIRECT("$F"&ROW()-C33&":$K"&ROW()-C33))<>COUNTA(INDIRECT("$F"&ROW()&":$K"&ROW()))),OFFSET(D33,-C33,-1),"Ok") -> Ok | F33: Վարչական պատասխանատվության տեսակը
C34: 2 | D34: =IF(AND(ChargesQ2=ForCodesYES,COUNTA(INDIRECT("$F"&ROW()-C34&":$K"&ROW()-C34))<>COUNTA(INDIRECT("$F"&ROW()&":$K"&ROW()))),OFFSET(D34,-C34,-1),"Ok") -> Ok | F34: Վարչական պատասխանատվության հիմքը
C35: 3 | D35: =IF(AND(ChargesQ2=ForCodesYES,COUNTA(INDIRECT("$F"&ROW()-C35&":$K"&ROW()-C35))<>COUNTA(INDIRECT("$F"&ROW()&":$K"&ROW()))),OFFSET(D35,-C35,-1),"Ok") -> Ok | F35: Օրը, ամիսը, տարին
C36: 4 | D36: =IF(AND(ChargesQ2=ForCodesYES,COUNTA(INDIRECT("$F"&ROW()-C36&":$K"&ROW()-C36))<>COUNTA(INDIRECT("$F"&ROW()&":$K"&ROW()))),OFFSET(D36,-C36,-1),"Ok") -> Ok | F36: Վարչական պատասխանատվություն կիրառող մարմինը
E38: 2.2) | F38: Վարչական պատասխանատվության ենթարկված լինելու վերաբերյալ այլ տեղեկություններ
B39: 1 | C39: =E38 -> 2.2) | F39: Համար
C40: 1 | D40: =IF(AND(ChargesQ2=ForCodesYES,COUNTA(INDIRECT("$F"&ROW()-C40&":$K"&ROW()-C40))<>COUNTA(INDIRECT("$F"&ROW()&":$K"&ROW()))),OFFSET(D40,-C40,-1),"Ok") -> Ok | F40: Հանգամանքների ամբողջական նկարագրությունը
C41: 2 | F41: Տեղեկություներ, եթե վարչական պատասխանատվության ենթարկելու վերաբերյալ որոշումը բողոքարկվել է և բողոքարկման հիմքը
C42: 3 | F42: Բողոքարկման կողմը (եթե վերաբերելի է)
C43: 4 | F43: Բողոքարկման արդյունքում կայացված՝ ուժի մեջ մտած և վերջնական որոշումը (գործի համարը) (եթե վերաբերելի է)
B45: 1 | C45: =E45 -> 3) | D45: =IF(ChargesQ3="",C45,"Ok") -> 3) | E45: 3) | F45: Արդյո՞ք քրեական պատասխանատվության ենթարկվել եք
E46: 3.1) | F46: Եթե այո, ապա նշեք՝ (տեղեկատվությունն անհրաժեշտ է ներկայացնել Վարչական իրավախախտումների վերաբերյալ օրենսգրքի իրավակարգավորումների համատեքստում) (անհրաժեշտ է նշել ճանապարհային երթևեկության կանոնների և ավտոկայանատեղիների տեղական տուրքի վճարումների խախտման դեպքերով վերջին 1 տարվա տվյալները)
B47: 1 | C47: =E46 -> 3.1) | F47: Համար | G47: 1
C48: 1 | D48: =IF(AND(ChargesQ3=ForCodesYES,COUNTA(INDIRECT("$F"&ROW()-C48&":$K"&ROW()-C48))<>COUNTA(INDIRECT("$F"&ROW()&":$K"&ROW()))),OFFSET(D48,-C48,-1),"Ok") -> Ok | F48: ՀՀ քրեական օրենսգրքի՝ հիմք հանդիսացած հոդվածը
C49: 2 | D49: =IF(AND(ChargesQ3=ForCodesYES,COUNTA(INDIRECT("$F"&ROW()-C49&":$K"&ROW()-C49))<>COUNTA(INDIRECT("$F"&ROW()&":$K"&ROW()))),OFFSET(D49,-C49,-1),"Ok") -> Ok | F49: Քրեական գործի սկիզբ (օրը, ամիսը, տարին)
C50: 3 | D50: =IF(AND(ChargesQ3=ForCodesYES,COUNTA(INDIRECT("$F"&ROW()-C50&":$K"&ROW()-C50))<>COUNTA(INDIRECT("$F"&ROW()&":$K"&ROW()))),OFFSET(D50,-C50,-1),"Ok") -> Ok | F50: Դատական ակտի տեսակը և պատժատեսակը (գործի համարը)
B52: 1 | C52: =E52 -> 3.2) | D52: =IF(ChargesQ3_2="",C52,"Ok") -> 3.2) | E52: 3.2) | F52: Ձեր նկատմամբ երբևէ կայացվե՞լ է քրեական հետապնդում չիրականացնելու կամ քրեական հետապնդումը դադարեցնելու որոշում
E53: 3.3) | F53: Եթե այո, ապա նշեք՝ (տեղեկատվությունն անհրաժեշտ է ներկայացնել Վարչական իրավախախտումների վերաբերյալ օրենսգրքի իրավակարգավորումների համատեքստում) (անհրաժեշտ է նշել ճանապարհային երթևեկության կանոնների և ավտոկայանատեղիների տեղական տուրքի վճարումների խախտման դեպքերով վերջին 1 տարվա տվյալները)
B54: 1 | C54: =E53 -> 3.3) | F54: Համար | G54: 1
C55: 1 | D55: =IF(AND(ChargesQ3_2=ForCodesYES,COUNTA(INDIRECT("$F"&ROW()-C55&":$K"&ROW()-C55))<>COUNTA(INDIRECT("$F"&ROW()&":$K"&ROW()))),OFFSET(D55,-C55,-1),"Ok") -> Ok | F55: ՀՀ քրեական դատավարության օրենսգրքի՝ հիմք հանդիսացած հոդվածը
C56: 2 | D56: =IF(AND(ChargesQ3_2=ForCodesYES,COUNTA(INDIRECT("$F"&ROW()-C56&":$K"&ROW()-C56))<>COUNTA(INDIRECT("$F"&ROW()&":$K"&ROW()))),OFFSET(D56,-C56,-1),"Ok") -> Ok | F56: Քրեական գործի (վարույթի) սկիզբը (օրը, ամիսը, տարին)
C57: 3 | F57: Քրեական գործի (վարույթի) ավարտը (օրը, ամիսը, տարին)
C58: 4 | D58: =IF(AND(ChargesQ3_2=ForCodesYES,COUNTA(INDIRECT("$F"&ROW()-C58&":$K"&ROW()-C58))<>COUNTA(INDIRECT("$F"&ROW()&":$K"&ROW()))),OFFSET(D58,-C58,-1),"Ok") -> Ok | F58: Քրեական հետապնդում իրականացնող մարմինը
...

Sheet CriminalRelation
B13: Completeness | C13: Check | D13: Check
E14: 5. ԹԵԿՆԱԾՈՒԻ՝ ՔՐԵԱԿԱՆ ՕՐԵՆՍԳՐՔԻ ՀԱՄԱՁԱՅՆ ՔՐԵԱԿԱՆ ԵՆԹԱՄՇԱԿՈՒՅԹԻՆ ՀԱՐԵԼՈՒ ՀՆԱՐԱՎՈՐՈՒԹՅԱՆ ՎԵՐԱԲԵՐՅԱԼ ՏԵՂԵԿՈՒԹՅՈՒՆՆԵՐ
B16: 1 | C16: =E16 -> 1) | D16: =IF(CriminalRelationQ1="",C16,"Ok") -> 1) | E16: 1) | F16: Երբևէ, որևէ կերպ առնչվե՞լ եք քրեական ենթամշակույթ կրող խմբավորման, կամ անձի հետ
E17: 1.1) | F17: Եթե այո, ապա նշեք՝
B18: 1 | C18: =E17 -> 1.1) | F18: Գործողության տեսակը | H18: Մանրամասների նկարագրություն
C19: 1 | D19: =IF(AND(CriminalRelationQ1=ForCodesYES,COUNTA(INDIRECT("$F"&ROW()-C19&":$K"&ROW()-C19))<>COUNTA(INDIRECT("$F"&ROW()&":$K"&ROW()))),OFFSET(D19,-C19,-1),"Ok") -> Ok | F19: Քրեական ենթամշակույթ կրող անձի հետ (օրինակ՝ օրենքով գող, քրեական հեղինակություն) ազգակցական կամ ընկերական կապի առկայության վերաբերյալ նշում
C20: 2 | D20: =IF(AND(CriminalRelationQ1=ForCodesYES,COUNTA(INDIRECT("$F"&ROW()-C20&":$K"&ROW()-C20))<>COUNTA(INDIRECT("$F"&ROW()&":$K"&ROW()))),OFFSET(D20,-C20,-1),"Ok") -> Ok | F20: Քրեական ենթամշակույթ կրող խմբավորման կամ անձի հետ անհատական հանդիպման վերաբերյալ նշում
C21: 3 | D21: =IF(AND(CriminalRelationQ1=ForCodesYES,COUNTA(INDIRECT("$F"&ROW()-C21&":$K"&ROW()-C21))<>COUNTA(INDIRECT("$F"&ROW()&":$K"&ROW()))),OFFSET(D21,-C21,-1),"Ok") -> Ok | F21: Քրեական ենթամշակույթ կրող խմբավորման կամ անձի հետ հեռախոսային կամ այլ հեռահար հաղորդակցություն ունենալու վերաբերյալ նշում
C22: 4 | D22: =IF(AND(CriminalRelationQ1=ForCodesYES,COUNTA(INDIRECT("$F"&ROW()-C22&":$K"&ROW()-C22))<>COUNTA(INDIRECT("$F"&ROW()&":$K"&ROW()))),OFFSET(D22,-C22,-1),"Ok") -> Ok | F22: Քրեական ենթամշակույթ կրող խմբավորման կամ անձի հետ անձնական, աշխատանքային կամ այլ կապ ունենալու վերաբերյալ նշում
B24: 1 | C24: =E24 -> 2) | D24: =IF(CriminalRelationQ2="",C24,"Ok") -> 2) | E24: 2) | F24: Արդյոք տեղյա՞կ եք, որ Ձեր ընտանիքի որևէ անդամ երբևէ, որևէ կերպ առնչվել է քրեական ենթամշակույթ կրող խմբավորման, կամ անձի հետ
E25: 2.1) | F25: Եթե այո, ապա նշեք՝
B26: 1 | C26: =E25 -> 2.1) | F26: Գործողության տեսակը | H26: Մանրամասների նկարագրություն
C27: 1 | D27: =IF(AND(CriminalRelationQ2=ForCodesYES,COUNTA(INDIRECT("$F"&ROW()-C27&":$K"&ROW()-C27))<>COUNTA(INDIRECT("$F"&ROW()&":$K"&ROW()))),OFFSET(D27,-C27,-1),"Ok") -> Ok | F27: Քրեական ենթամշակույթ կրող անձի հետ ազգակցական կամ ընկերական կապի առկայության վերաբերյալ նշում
C28: 2 | D28: =IF(AND(CriminalRelationQ2=ForCodesYES,COUNTA(INDIRECT("$F"&ROW()-C28&":$K"&ROW()-C28))<>COUNTA(INDIRECT("$F"&ROW()&":$K"&ROW()))),OFFSET(D28,-C28,-1),"Ok") -> Ok | F28: Քրեական ենթամշակույթ կրող խմբավորման կամ անձի հետ անհատական հանդիպման վերաբերյալ նշում
C29: 3 | D29: =IF(AND(CriminalRelationQ2=ForCodesYES,COUNTA(INDIRECT("$F"&ROW()-C29&":$K"&ROW()-C29))<>COUNTA(INDIRECT("$F"&ROW()&":$K"&ROW()))),OFFSET(D29,-C29,-1),"Ok") -> Ok | F29: Քրեական ենթամշակույթ կրող խմբավորման կամ անձի հետ հեռախոսակցություն կամ այլ հեռահար հաղորդակցություն ունենալու վերաբերյալ նշում
C30: 4 | D30: =IF(AND(CriminalRelationQ2=ForCodesYES,COUNTA(INDIRECT("$F"&ROW()-C30&":$K"&ROW()-C30))<>COUNTA(INDIRECT("$F"&ROW()&":$K"&ROW()))),OFFSET(D30,-C30,-1),"Ok") -> Ok | F30: Քրեական ենթամշակույթ կրող խմբավորման կամ անձի հետ անձնական, աշխատանքային կամ այլ կապ ունենալու վերաբերյալ նշում
C32: =E32 -> 3) | E32: 3) | F32: Լրացուցիչ տեղեկություններ
C33: 1 | D33: =IF(F33="",C32,"Ok") -> 3)

Sheet Property
B13: Completeness | C13: Check | D13: Check
E14: 6. ԹԵԿՆԱԾՈՒԻ, ԻՆՉՊԵՍ ՆԱԵՎ ՀԱՆՐԱՅԻՆ ԾԱՌԱՅՈՒԹՅԱՆ ՄԱՍԻՆ ՕՐԵՆՔԻ 34-ՐԴ ՀՈԴՎԱԾԻ 9-ՐԴ ԵՎ 10-ՐԴ ՄԱՍԵՐԻ ԻՄԱՍՏՈՎ ՆՐԱ ԸՆՏԱՆԻՔԻ ԱՆԴԱՄՆԵՐԻ ԳՈՒՅՔԱՅԻՆ ԴՐՈՒԹՅԱՆ ՎԵՐԱԲԵՐՅԱԼ ԱՄՓՈՓ ՏԵՂԵԿՈՒԹՅՈՒՆՆԵՐ
E15: =IFERROR("(Լրացնել "&TEXT(EOMONTH(QuestionnaireDate,-1),"dd/mm/yyyy")&" դրությամբ)","(Լրացնել _/_/____ դրությամբ)") -> (Լրացնել _/_/____ դրությամբ)
B17: 1 | C17: =E17 -> 1) | D17: =IF(PropertyQ1="",C17,"Ok") -> 1) | E17: 1) | F17: Ունե՞ք ընտանիքի անդամներ (ընտանիքի կազմի մեջ մտնող անձինք)
E18: 1.1) | F18: Եթե այո, ապա նշեք՝
B19: 1 | C19: =E18 -> 1.1) | F19: Համար | G19: 1
C20: 1 | D20: =IF(AND(PropertyQ1=ForCodesYES,COUNTA(INDIRECT("$F"&ROW()-C20&":$K"&ROW()-C20))<>COUNTA(INDIRECT("$F"&ROW()&":$K"&ROW()))),OFFSET(D20,-C20,-1),"Ok") -> Ok | F20: Անունը, ազգանունը, հայրանունը
C21: 2 | D21: =IF(AND(PropertyQ1=ForCodesYES,COUNTA(INDIRECT("$F"&ROW()-C21&":$K"&ROW()-C21))<>COUNTA(INDIRECT("$F"&ROW()&":$K"&ROW()))),OFFSET(D21,-C21,-1),"Ok") -> Ok | F21: Կապը թեկնածուի հետ
C22: 3 | D22: =IF(AND(PropertyQ1=ForCodesYES,COUNTA(INDIRECT("$F"&ROW()-C22&":$K"&ROW()-C22))<>COUNTA(INDIRECT("$F"&ROW()&":$K"&ROW()))),OFFSET(D22,-C22,-1),"Ok") -> Ok | F22: Ծննդյան օրը, ամիսը, տարին
C23: 4 | F23: Անձը հաստատող փաստաթուղթ
C24: 5 | D24: =IF(AND(PropertyQ1=ForCodesYES,COUNTA(INDIRECT("$F"&ROW()-C24&":$K"&ROW()-C24))<>COUNTA(INDIRECT("$F"&ROW()&":$K"&ROW()))),OFFSET(D24,-C24,-1),"Ok") -> Ok | F24: Հանրային ծառայությունների համարանիշ
C25: 6 | F25: Անձնագրի սերիա և համար
C26: 7 | F26: Կենսաչափական անձնագրի սերիա և համար
C27: 8 | F27: Նույնականացման քարտի համար
C28: 9 | D28: =IF(AND(PropertyQ1=ForCodesYES,COUNTA(INDIRECT("$F"&ROW()-C28&":$K"&ROW()-C28))<>COUNTA(INDIRECT("$F"&ROW()&":$K"&ROW()))),OFFSET(D28,-C28,-1),"Ok") -> Ok | F28: Քաղաքացիությունը
C29: 10 | D29: =IF(AND(PropertyQ1=ForCodesYES,COUNTA(INDIRECT("$F"&ROW()-C29&":$K"&ROW()-C29))<>COUNTA(INDIRECT("$F"&ROW()&":$K"&ROW()))),OFFSET(D29,-C29,-1),"Ok") -> Ok | F29: Հաշվառման հասցեն
C30: 11 | D30: =IF(AND(PropertyQ1=ForCodesYES,COUNTA(INDIRECT("$F"&ROW()-C30&":$K"&ROW()-C30))<>COUNTA(INDIRECT("$F"&ROW()&":$K"&ROW()))),OFFSET(D30,-C30,-1),"Ok") -> Ok | F30: Բնակության հասցեն
C31: 12 | F31: Պաշտոնը (աշխատանքային գործունեությունը)
C32: 13 | F32: Գործատուի անվանումը
B34: 1 | C34: =E34 -> 2) | D34: =IF(PropertyQ2="",C34,"Ok") -> 2) | E34: 2) | F34: Արդյոք Դուք կամ Ձեր ընտանիքի անդամները հանդիսանու՞մ եք (են) անշարժ գույքի սեփականատեր
E35: 2.1) | F35: Եթե այո, ապա նշեք՝ (տեղեկատվությունն անհրաժեշտ է ներկայացնել Վարչական իրավախախտումների վերաբերյալ օրենսգրքի իրավակարգավորումների համատեքստում) (անհրաժեշտ է նշել ճանապարհային երթևեկության կանոնների և ավտոկայանատեղիների տեղական տուրքի վճարումների խախտման դեպքերով վերջին 1 տարվա տվյալները)
B36: 1 | C36: =E35 -> 2.1) | F36: Համար | G36: 1
C37: 1 | D37: =IF(AND(PropertyQ2=ForCodesYES,COUNTA(INDIRECT("$F"&ROW()-C37&":$K"&ROW()-C37))<>COUNTA(INDIRECT("$F"&ROW()&":$K"&ROW()))),OFFSET(D37,-C37,-1),"Ok") -> Ok | F37: Սեփականատիրոջ անունը, ազգանունը, հայրանունը
C38: 2 | D38: =IF(AND(PropertyQ2=ForCodesYES,COUNTA(INDIRECT("$F"&ROW()-C38&":$K"&ROW()-C38))<>COUNTA(INDIRECT("$F"&ROW()&":$K"&ROW()))),OFFSET(D38,-C38,-1),"Ok") -> Ok | F38: Առկա անշարժ գույքի տեսակը
C39: 3 | D39: =IF(AND(PropertyQ2=ForCodesYES,COUNTA(INDIRECT("$F"&ROW()-C39&":$K"&ROW()-C39))<>COUNTA(INDIRECT("$F"&ROW()&":$K"&ROW()))),OFFSET(D39,-C39,-1),"Ok") -> Ok | F39: Սեփականության իրավունքի տեսակը (միանձնյա, համատեղ, բաժնային)
C40: 4 | F40: Սեփականատիրոջ բաժինը
C41: 5 | D41: =IF(AND(PropertyQ2=ForCodesYES,COUNTA(INDIRECT("$F"&ROW()-C41&":$K"&ROW()-C41))<>COUNTA(INDIRECT("$F"&ROW()&":$K"&ROW()))),OFFSET(D41,-C41,-1),"Ok") -> Ok | F41: Գտնվելու վայրի հասցեն
C42: 6 | D42: =IF(AND(PropertyQ2=ForCodesYES,COUNTA(INDIRECT("$F"&ROW()-C42&":$K"&ROW()-C42))<>COUNTA(INDIRECT("$F"&ROW()&":$K"&ROW()))),OFFSET(D42,-C42,-1),"Ok") -> Ok | F42: Անշարժ գույքի հաշվառման համարը
C43: 7 | D43: =IF(AND(PropertyQ2=ForCodesYES,COUNTA(INDIRECT("$F"&ROW()-C43&":$K"&ROW()-C43))<>COUNTA(INDIRECT("$F"&ROW()&":$K"&ROW()))),OFFSET(D43,-C43,-1),"Ok") -> Ok | F43: Անշարժ գույքի մակերեսը
C44: 8 | D44: =IF(AND(PropertyQ2=ForCodesYES,COUNTA(INDIRECT("$F"&ROW()-C44&":$K"&ROW()-C44))<>COUNTA(INDIRECT("$F"&ROW()&":$K"&ROW()))),OFFSET(D44,-C44,-1),"Ok") -> Ok | F44: Անշարժ գույքը ձեռք բերելու օրը, ամիսը, տարին
C45: 9 | D45: =IF(AND(PropertyQ2=ForCodesYES,COUNTA(INDIRECT("$F"&ROW()-C45&":$K"&ROW()-C45))<>COUNTA(INDIRECT("$F"&ROW()&":$K"&ROW()))),OFFSET(D45,-C45,-1),"Ok") -> Ok | F45: Անշարժ գույքի ձեռքբերման եղանակը
C46: 10 | D46: =IF(AND(PropertyQ2=ForCodesYES,COUNTA(INDIRECT("$F"&ROW()-C46&":$K"&ROW()-C46))<>COUNTA(INDIRECT("$F"&ROW()&":$K"&ROW()))),OFFSET(D46,-C46,-1),"Ok") -> Ok | F46: Ձեռքբերման գինը (արժեքը)
C47: 11 | D47: =IF(AND(PropertyQ2=ForCodesYES,COUNTA(INDIRECT("$F"&ROW()-C47&":$K"&ROW()-C47))<>COUNTA(INDIRECT("$F"&ROW()&":$K"&ROW()))),OFFSET(D47,-C47,-1),"Ok") -> Ok | F47: Ձեռքբերման արժույթը
B49: 1 | C49: =E49 -> 3) | D49: =IF(PropertyQ3="",C49,"Ok") -> 3) | E49: 3) | F49: Արդյոք առկա՞ է Ձեր կամ Ձեր ընտանիքի անդամների հարցաթերթիկի լրացման օրվան նախորդող ամսվա վերջին օրվանից սկսված 1 տարվա ընթացքում 90 օր և ավելի փաստացի տիրապետվող անշարժ գույք կամ Ձեր կամ Ձեր ընտանիքի անդամների անունից, օգտին կամ հաշվին ձեռք բերված, երրորդ անձին սեփականության իրավունքով պատկանող անշարժ գույք, կամ անշարժ գույք, որից փաստացի օգուտ եք ստանում կամ այն տնօրինում եք Դուք կամ Ձեր ընտանիքի անդամները
E50: 3.1) | F50: Եթե այո, ապա նշեք՝ (տեղեկատվությունն անհրաժեշտ է ներկայացնել Վարչական իրավախախտումների վերաբերյալ օրենսգրքի իրավակարգավորումների համատեքստում) (անհրաժեշտ է նշել ճանապարհային երթևեկության կանոնների և ավտոկայանատեղիների տեղական տուրքի վճարումների խախտման դեպքերով վերջին 1 տարվա տվյալները)
B51: 1 | C51: =E50 -> 3.1) | F51: Համար | G51: 1
C52: 1 | D52: =IF(AND(PropertyQ3=ForCodesYES,COUNTA(INDIRECT("$F"&ROW()-C52&":$K"&ROW()-C52))<>COUNTA(INDIRECT("$F"&ROW()&":$K"&ROW()))),OFFSET(D52,-C52,-1),"Ok") -> Ok | F52: Տնօրինողի անունը, ազգանունը, հայրանունը
C53: 2 | D53: =IF(AND(PropertyQ3=ForCodesYES,COUNTA(INDIRECT("$F"&ROW()-C53&":$K"&ROW()-C53))<>COUNTA(INDIRECT("$F"&ROW()&":$K"&ROW()))),OFFSET(D53,-C53,-1),"Ok") -> Ok | F53: Սեփականատիրոջ անունը, ազգանունը, հայրանունը
C54: 3 | D54: =IF(AND(PropertyQ3=ForCodesYES,COUNTA(INDIRECT("$F"&ROW()-C54&":$K"&ROW()-C54))<>COUNTA(INDIRECT("$F"&ROW()&":$K"&ROW()))),OFFSET(D54,-C54,-1),"Ok") -> Ok | F54: Փաստացի տիրապետվող անշարժ գույքի տեսակը
C55: 4 | D55: =IF(AND(PropertyQ3=ForCodesYES,COUNTA(INDIRECT("$F"&ROW()-C55&":$K"&ROW()-C55))<>COUNTA(INDIRECT("$F"&ROW()&":$K"&ROW()))),OFFSET(D55,-C55,-1),"Ok") -> Ok | F55: Գտնվելու վայրի հասցեն
...

Sheet CheckingReport
E8: 0 | F8: Չլրացված պարտադիր դաշտ
E9: 1 | F9: Չլրացված ոչ պարտադիր դաշտ
E10: 2 | F10: Լրացված դաշտ
E12: Ամսաթիվ | F12: 1. ԿԵՆՍԱԳՐԱԿԱՆ ՏՎՅԱԼՆԵՐ
F13: 1) | G13: 2) | H13: 2.1) | I13: 3) | J13: 4) | K13: 5) | L13: 6) | M13: 6.1) | N13: 7) | O13: 8) | P13: 9) | Q13: 9.1) | R13: 10)
B14: 0 | C14: 1 | D14: 2 | E14: {=INDIRECT($C$54&$D$54&E$54)} -> 0 | F14: {=INDIRECT($C$54&$D$54&F$54)} -> 0 | G14: {=INDIRECT($C$54&$D$54&G$54)} -> 0 | H14: {=INDIRECT($C$54&$D$54&H$54)} -> 2 | I14: {=INDIRECT($C$54&$D$54&I$54)} -> 0 | J14: {=INDIRECT($C$54&$D$54&J$54)} -> 0 | K14: {=INDIRECT($C$54&$D$54&K$54)} -> 0 | L14: {=INDIRECT($C$54&$D$54&L$54)} -> 0 | ... R14: {=INDIRECT($C$54&$D$54&R$54)} -> 1
E16: 2. ԿՐԹՈՒԹՅԱՆ, ԱՇԽԱՏԱՆՔԱՅԻՆ ՓՈՐՁԻ ՎԵՐԱԲԵՐՅԱԼ ՏԵՂԵԿՈՒԹՅՈՒՆՆԵՐ
E17: 1) | F17: 2) | G17: 2.1) | H17: 3) | I17: 4) | J17: 4.1) | K17: 5) | L17: 5.1) | M17: 6) | N17: 6.1) | O17: 7) | P17: 7.1) | Q17: 8) | R17: 8.1) | S17: 9) | T17: 9.1) | U17: 10)
B18: 0 | C18: 1 | D18: 2 | E18: {=INDIRECT($C$54&$D$55&E$55)} -> 0 | F18: {=INDIRECT($C$54&$D$55&F$55)} -> 0 | G18: {=INDIRECT($C$54&$D$55&G$55)} -> 2 | H18: {=INDIRECT($C$54&$D$55&H$55)} -> 0 | I18: {=INDIRECT($C$54&$D$55&I$55)} -> 0 | J18: {=INDIRECT($C$54&$D$55&J$55)} -> 2 | K18: {=INDIRECT($C$54&$D$55&K$55)} -> 0 | L18: {=INDIRECT($C$54&$D$55&L$55)} -> 2 | ... U18: {=INDIRECT($C$54&$D$55&U$55)} -> 1
E20: 3. ԹԵԿՆԱԾՈՒԻ՝ ՇԱՀԵՐԻ ՎԵՐԱԲԵՐՅԱԼ ՏԵՂԵԿՈՒԹՅՈՒՆՆԵՐ
E21: 1) | F21: 1.1) | G21: 2) | H21: 2.1) | I21: 3) | J21: 3.1) | K21: 4)
B22: 0 | C22: 1 | D22: 2 | E22: {=INDIRECT($C$54&$D$56&E$56)} -> 0 | F22: {=INDIRECT($C$54&$D$56&F$56)} -> 2 | G22: {=INDIRECT($C$54&$D$56&G$56)} -> 0 | H22: {=INDIRECT($C$54&$D$56&H$56)} -> 2 | I22: {=INDIRECT($C$54&$D$56&I$56)} -> 0 | J22: {=INDIRECT($C$54&$D$56&J$56)} -> 2 | K22: {=INDIRECT($C$54&$D$56&K$56)} -> 1
E24: 4. ՔՐԵԱԿԱՆ, ՎԱՐՉԱԿԱՆ ԿԱՄ ԿԱՐԳԱՊԱՀԱԿԱՆ ՊԱՏԱՍԽԱՆԱՏՎՈՒԹՅԱՆ ԵՆԹԱՐԿՎԱԾ ԼԻՆԵԼՈՒ ՎԵՐԱԲԵՐՅԱԼ ՏԵՂԵԿԱՏՎՈՒԹՅՈՒՆ
E25: 1) | F25: 1.1) | G25: 1.2) | H25: 2) | I25: 2.1) | J25: 2.2) | K25: 3) | L25: 3.1) | M25: 3.2) | N25: 3.3) | O25: 4) | P25: 4.1) | Q25: 4.2) | R25: 5) | S25: 5.1) | T25: 5.2) | U25: 6) | V25: 6.1) | W25: 6.2)
B26: 0 | C26: 1 | D26: 2 | E26: {=INDIRECT($C$54&$D$57&E$57)} -> 0 | F26: {=INDIRECT($C$54&$D$57&F$57)} -> 2 | G26: {=INDIRECT($C$54&$D$57&G$57)} -> 2 | H26: {=INDIRECT($C$54&$D$57&H$57)} -> 0 | I26: {=INDIRECT($C$54&$D$57&I$57)} -> 2 | J26: {=INDIRECT($C$54&$D$57&J$57)} -> 2 | K26: {=INDIRECT($C$54&$D$57&K$57)} -> 0 | L26: {=INDIRECT($C$54&$D$57&L$57)} -> 2 | ... W26: {=INDIRECT($C$54&$D$57&W$57)} -> 1
E28: 5. ՔՐԵԱԿԱՆ ԵՆԹԱՄՇԱԿՈՒՅԹԻՆ ՀԱՐԵԼՈՒ ՀՆԱՐԱՎՈՐՈՒԹՅԱՆ ՎԵՐԱԲԵՐՅԱԼ ՏԵՂԵԿՈՒԹՅՈՒՆՆԵՐ
E29: 1) | F29: 1.1) | G29: 2) | H29: 2.1) | I29: 3)
B30: 0 | C30: 1 | D30: 2 | E30: {=INDIRECT($C$54&$D$58&E$58)} -> 0 | F30: {=INDIRECT($C$54&$D$58&F$58)} -> 2 | G30: {=INDIRECT($C$54&$D$58&G$58)} -> 0 | H30: {=INDIRECT($C$54&$D$58&H$58)} -> 2 | I30: {=INDIRECT($C$54&$D$58&I$58)} -> 1
E32: 6. ԳՈՒՅՔԱՅԻՆ ԴՐՈՒԹՅԱՆ ՎԵՐԱԲԵՐՅԱԼ ԱՄՓՈՓ ՏԵՂԵԿՈՒԹՅՈՒՆՆԵՐ
E33: 1) | F33: 1.1) | G33: 2) | H33: 2.1) | I33: 3) | J33: 3.1) | K33: 3.2) | L33: 4) | M33: 4.1) | N33: 4.2) | O33: 5) | P33: 5.1) | Q33: 6) | R33: 6.1) | S33: 7) | T33: 7.1) | U33: 7.2) | V33: 8) | W33: 8.1) | X33: 9) | Y33: 9.1) | Z33: 9.2) | AA33: 10) | AB33: 10.1) | AC33: 11) | AD33: 11.1) | AE33: 11.2) | AF33: 12) | AG33: 12.1) | AH33: 13) | AI33: 13.1) | AJ33: 14) | AK33: 14.1) | AL33: 14.2) | AM33: 15) | AN33: 15.1) | AO33: 16) | AP33: 16.1) | AQ33: 17) | AR33: 17.1)
B34: 0 | C34: 1 | D34: 2 | E34: {=INDIRECT($C$54&$D$59&E$59)} -> 0 | F34: {=INDIRECT($C$54&$D$59&F$59)} -> 2 | G34: {=INDIRECT($C$54&$D$59&G$59)} -> 0 | H34: {=INDIRECT($C$54&$D$59&H$59)} -> 2 | I34: {=INDIRECT($C$54&$D$59&I$59)} -> 0 | J34: {=INDIRECT($C$54&$D$59&J$59)} -> 2 | K34: {=INDIRECT($C$54&$D$59&K$59)} -> 1 | L34: {=INDIRECT($C$54&$D$59&L$59)} -> 0 | ... AR34: {=INDIRECT($C$54&$D$59&AR$59)} -> 2
E35: 17.2) | F35: 18) | G35: 18.1) | H35: 18.2) | I35: 19) | J35: 19.1) | K35: 20) | L35: 20.1) | M35: 20.2)
B36: 0 | C36: 1 | D36: 2 | E36: {=INDIRECT($C$54&$D$60&E$60)} -> 1 | F36: {=INDIRECT($C$54&$D$60&F$60)} -> 0 | G36: {=INDIRECT($C$54&$D$60&G$60)} -> 2 | H36: {=INDIRECT($C$54&$D$60&H$60)} -> 1 | I36: {=INDIRECT($C$54&$D$60&I$60)} -> 0 | J36: {=INDIRECT($C$54&$D$60&J$60)} -> 2 | K36: {=INDIRECT($C$54&$D$60&K$60)} -> 0 | L36: {=INDIRECT($C$54&$D$60&L$60)} -> 2 | M36: {=INDIRECT($C$54&$D$60&M$60)} -> 1
C54: ForChecking! | D54: =SUBSTITUTE(ADDRESS(1,COLUMN(CheckingCalcSection1),4),"1","") -> X | E54: 8 | F54: =+E54+1 -> 9 | G54: =+F54+1 -> 10 | H54: =+G54+1 -> 11 | I54: =+H54+1 -> 12 | J54: =+I54+1 -> 13 | K54: =+J54+1 -> 14 | L54: =+K54+1 -> 15 | M54: =+L54+1 -> 16 | ... R54: =+Q54+1 -> 21
D55: =SUBSTITUTE(ADDRESS(1,COLUMN(CheckingCalcSection2),4),"1","") -> Z | E55: 8 | F55: =+E55+1 -> 9 | G55: =+F55+1 -> 10 | H55: =+G55+1 -> 11 | I55: =+H55+1 -> 12 | J55: =+I55+1 -> 13 | K55: =+J55+1 -> 14 | L55: =+K55+1 -> 15 | M55: =+L55+1 -> 16 | ... U55: =+T55+1 -> 24
D56: =SUBSTITUTE(ADDRESS(1,COLUMN(CheckingCalcSection3),4),"1","") -> AB | E56: 8 | F56: =+E56+1 -> 9 | G56: =+F56+1 -> 10 | H56: =+G56+1 -> 11 | I56: =+H56+1 -> 12 | J56: =+I56+1 -> 13 | K56: =+J56+1 -> 14 | L56: =+K56+1 -> 15 | M56: =+L56+1 -> 16
D57: =SUBSTITUTE(ADDRESS(1,COLUMN(CheckingCalcSection4),4),"1","") -> AD | E57: 8 | F57: =+E57+1 -> 9 | G57: =+F57+1 -> 10 | H57: =+G57+1 -> 11 | I57: =+H57+1 -> 12 | J57: =+I57+1 -> 13 | K57: =+J57+1 -> 14 | L57: =+K57+1 -> 15 | M57: =+L57+1 -> 16 | ... W57: =+V57+1 -> 26
D58: =SUBSTITUTE(ADDRESS(1,COLUMN(CheckingCalcSection5),4),"1","") -> AF | E58: 8 | F58: =+E58+1 -> 9 | G58: =+F58+1 -> 10 | H58: =+G58+1 -> 11 | I58: =+H58+1 -> 12
D59: =SUBSTITUTE(ADDRESS(1,COLUMN(CheckingCalcSection6),4),"1","") -> AH | E59: 8 | F59: =+E59+1 -> 9 | G59: =+F59+1 -> 10 | H59: =+G59+1 -> 11 | I59: =+H59+1 -> 12 | J59: =+I59+1 -> 13 | K59: =+J59+1 -> 14 | L59: =+K59+1 -> 15 | M59: =+L59+1 -> 16 | ... AR59: =+AQ59+1 -> 47
D60: =SUBSTITUTE(ADDRESS(1,COLUMN(CheckingCalcSection6),4),"1","") -> AH | E60: 48 | F60: =+E60+1 -> 49 | G60: =+F60+1 -> 50 | H60: =+G60+1 -> 51 | I60: =+H60+1 -> 52 | J60: =+I60+1 -> 53 | K60: =+J60+1 -> 54 | L60: =+K60+1 -> 55 | M60: =+L60+1 -> 56

Sheet ForChecking
C5: 1 | F5: 2 | I5: 3 | J5: 3 | L5: 4 | O5: 5 | R5: 6 | W5: Missing | AK5: ForCharts | AU5: ForExtractChecking
C6: Q | D6: Missing | E6: Mandatory | F6: Q | G6: Missing | H6: Mandatory | I6: Q | J6: Missing | K6: Mandatory | L6: Q | M6: Missing | N6: Mandatory | O6: Q | P6: Missing | Q6: Mandatory | R6: Q | S6: Missing | T6: Mandatory | W6: 1 | Y6: 2 | AA6: 3 | AC6: 4 | AE6: 5 | AG6: 6 | AL6: 1 | AM6: 2 | AN6: 3 | AO6: 4 | AP6: 5 | AQ6: 6 | AR6: Total | AU6: =SUM(AL8:AQ8)>0 -> TRUE
C7: 0) | D7: =COUNTIF(ForCheckingPersonalInfo,ForChecking!C7)>0 -> TRUE | E7: TRUE | F7: 1) | G7: =COUNTIF(ForCheckingEducWork,ForChecking!F7)>0 -> TRUE | H7: TRUE | I7: 1) | J7: =COUNTIF(ForCheckingRelation,ForChecking!I7)>0 -> TRUE | K7: TRUE | L7: 1) | M7: =COUNTIF(ForCheckingCharges,ForChecking!L7)>0 -> TRUE | N7: TRUE | O7: 1) | P7: =COUNTIF(ForCheckingCriminalRelation,ForChecking!O7)>0 -> TRUE | Q7: TRUE | R7: 1) | S7: =COUNTIF(ForCheckingProperty,ForChecking!R7)>0 -> TRUE | T7: TRUE | W7: Q | X7: Check | Y7: Q | Z7: Check | AA7: Q | AB7: Check | AC7: Q | AD7: Check | AE7: Q | AF7: Check | AG7: Q | AH7: Check | AK7: Total | AL7: =SUBTOTAL(109,ForCheckingQuestionsPersonalInfo) -> 10 | AM7: =SUBTOTAL(109,ForCheckingQuestionsEducWork) -> 9 | AN7: =SUBTOTAL(109,ForCheckingQuestionsRelation) -> 3 | AO7: =SUBTOTAL(109,ForCheckingQuestionsCharges) -> 7 | AP7: =SUBTOTAL(109,ForCheckingQuestionsCriminalRelation) -> 2 | AQ7: =SUBTOTAL(109,ForCheckingQuestionsProperty) -> 20 | AR7: =SUM(AL7:AQ7) -> 51
C8: 1) | D8: =COUNTIF(ForCheckingPersonalInfo,ForChecking!C8)>0 -> TRUE | E8: TRUE | F8: 2) | G8: =COUNTIF(ForCheckingEducWork,ForChecking!F8)>0 -> TRUE | H8: TRUE | I8: 1.1) | J8: =COUNTIF(ForCheckingRelation,ForChecking!I8)>0 -> FALSE | K8: TRUE | L8: 1.1) | M8: =COUNTIF(ForCheckingCharges,ForChecking!L8)>0 -> FALSE | N8: TRUE | O8: 1.1) | P8: =COUNTIF(ForCheckingCriminalRelation,ForChecking!O8)>0 -> FALSE | Q8: TRUE | R8: 1.1) | S8: =COUNTIF(ForCheckingProperty,ForChecking!R8)>0 -> FALSE | T8: TRUE | W8: 0) | X8: =IF(AND(D7,E7),0,IF(D7,1,2)) -> 0 | Y8: 1) | Z8: =IF(AND(G7,H7),0,IF(G7,1,2)) -> 0 | AA8: 1) | AB8: =IF(AND(J7,K7),0,IF(J7,1,2)) -> 0 | AC8: 1) | AD8: =IF(AND(M7,N7),0,IF(M7,1,2)) -> 0 | AE8: 1) | AF8: =IF(AND(P7,Q7),0,IF(P7,1,2)) -> 0 | AG8: 1) | AH8: =IF(AND(S7,T7),0,IF(S7,1,2)) -> 0 | AK8: Missing | AL8: =COUNTIF($X$8:$X$21,0) -> 10 | AM8: =COUNTIF($Z$8:$Z$24,0) -> 9 | AN8: =COUNTIF($AB$8:$AB$14,0) -> 3 | AO8: =COUNTIF($AD$8:$AD$26,0) -> 7 | AP8: =COUNTIF($AF$8:$AF$12,0) -> 2 | AQ8: =COUNTIF($AH$8:$AH$56,0) -> 20 | AR8: =SUM(AL8:AQ8) -> 51
C9: 2) | D9: =COUNTIF(ForCheckingPersonalInfo,ForChecking!C9)>0 -> TRUE | E9: TRUE | F9: 2.1) | G9: =COUNTIF(ForCheckingEducWork,ForChecking!F9)>0 -> FALSE | H9: TRUE | I9: 2) | J9: =COUNTIF(ForCheckingRelation,ForChecking!I9)>0 -> TRUE | K9: TRUE | L9: 1.2) | M9: =COUNTIF(ForCheckingCharges,ForChecking!L9)>0 -> FALSE | N9: TRUE | O9: 2) | P9: =COUNTIF(ForCheckingCriminalRelation,ForChecking!O9)>0 -> TRUE | Q9: TRUE | R9: 2) | S9: =COUNTIF(ForCheckingProperty,ForChecking!R9)>0 -> TRUE | T9: TRUE | W9: 1) | X9: =IF(AND(D8,E8),0,IF(D8,1,2)) -> 0 | Y9: 2) | Z9: =IF(AND(G8,H8),0,IF(G8,1,2)) -> 0 | AA9: 1.1) | AB9: =IF(AND(J8,K8),0,IF(J8,1,2)) -> 2 | AC9: 1.1) | AD9: =IF(AND(M8,N8),0,IF(M8,1,2)) -> 2 | AE9: 1.1) | AF9: =IF(AND(P8,Q8),0,IF(P8,1,2)) -> 2 | AG9: 1.1) | AH9: =IF(AND(S8,T8),0,IF(S8,1,2)) -> 2 | AK9: Missing/NotMandatory | AL9: =COUNTIF($X$8:$X$21,1) -> 1 | AM9: =COUNTIF($Z$8:$Z$24,1) -> 1 | AN9: =COUNTIF($AB$8:$AB$14,1) -> 1 | AO9: =COUNTIF($AD$8:$AD$26,1) -> 2 | AP9: =COUNTIF($AF$8:$AF$12,1) -> 1 | AQ9: =COUNTIF($AH$8:$AH$56,1) -> 9 | AR9: =SUM(AL9:AQ9) -> 15
C10: 2.1) | D10: =COUNTIF(ForCheckingPersonalInfo,ForChecking!C10)>0 -> FALSE | E10: TRUE | F10: 3) | G10: =COUNTIF(ForCheckingEducWork,ForChecking!F10)>0 -> TRUE | H10: TRUE | I10: 2.1) | J10: =COUNTIF(ForCheckingRelation,ForChecking!I10)>0 -> FALSE | K10: TRUE | L10: 2) | M10: =COUNTIF(ForCheckingCharges,ForChecking!L10)>0 -> TRUE | N10: TRUE | O10: 2.1) | P10: =COUNTIF(ForCheckingCriminalRelation,ForChecking!O10)>0 -> FALSE | Q10: TRUE | R10: 2.1) | S10: =COUNTIF(ForCheckingProperty,ForChecking!R10)>0 -> FALSE | T10: TRUE | W10: 2) | X10: =IF(AND(D9,E9),0,IF(D9,1,2)) -> 0 | Y10: 2.1) | Z10: =IF(AND(G9,H9),0,IF(G9,1,2)) -> 2 | AA10: 2) | AB10: =IF(AND(J9,K9),0,IF(J9,1,2)) -> 0 | AC10: 1.2) | AD10: =IF(AND(M9,N9),0,IF(M9,1,2)) -> 2 | AE10: 2) | AF10: =IF(AND(P9,Q9),0,IF(P9,1,2)) -> 0 | AG10: 2) | AH10: =IF(AND(S9,T9),0,IF(S9,1,2)) -> 0 | AK10: Answered | AL10: =1-(AL8)/AL7 -> 0 | AM10: =1-(AM8)/AM7 -> 0 | AN10: =1-(AN8)/AN7 -> 0 | AO10: =1-(AO8)/AO7 -> 0 | AP10: =1-(AP8)/AP7 -> 0 | AQ10: =1-(AQ8)/AQ7 -> 0 | AR10: =1-(AR8)/AR7 -> 0
C11: 3) | D11: =COUNTIF(ForCheckingPersonalInfo,ForChecking!C11)>0 -> TRUE | E11: TRUE | F11: 4) | G11: =COUNTIF(ForCheckingEducWork,ForChecking!F11)>0 -> TRUE | H11: TRUE | I11: 3) | J11: =COUNTIF(ForCheckingRelation,ForChecking!I11)>0 -> TRUE | K11: TRUE | L11: 2.1) | M11: =COUNTIF(ForCheckingCharges,ForChecking!L11)>0 -> FALSE | N11: TRUE | O11: 3) | P11: =COUNTIF(ForCheckingCriminalRelation,ForChecking!O11)>0 -> TRUE | Q11: FALSE | R11: 3) | S11: =COUNTIF(ForCheckingProperty,ForChecking!R11)>0 -> TRUE | T11: TRUE | W11: 2.1) | X11: =IF(AND(D10,E10),0,IF(D10,1,2)) -> 2 | Y11: 3) | Z11: =IF(AND(G10,H10),0,IF(G10,1,2)) -> 0 | AA11: 2.1) | AB11: =IF(AND(J10,K10),0,IF(J10,1,2)) -> 2 | AC11: 2) | AD11: =IF(AND(M10,N10),0,IF(M10,1,2)) -> 0 | AE11: 2.1) | AF11: =IF(AND(P10,Q10),0,IF(P10,1,2)) -> 2 | AG11: 2.1) | AH11: =IF(AND(S10,T10),0,IF(S10,1,2)) -> 2 | AK11: Pending | AL11: =1-AL10 -> 1 | AM11: =1-AM10 -> 1 | AN11: =1-AN10 -> 1 | AO11: =1-AO10 -> 1 | AP11: =1-AP10 -> 1 | AQ11: =1-AQ10 -> 1 | AR11: =1-AR10 -> 1
C12: 4) | D12: =COUNTIF(ForCheckingPersonalInfo,ForChecking!C12)>0 -> TRUE | E12: TRUE | F12: 4.1) | G12: =COUNTIF(ForCheckingEducWork,ForChecking!F12)>0 -> FALSE | H12: TRUE | I12: 3.1) | J12: =COUNTIF(ForCheckingRelation,ForChecking!I12)>0 -> FALSE | K12: TRUE | L12: 2.2) | M12: =COUNTIF(ForCheckingCharges,ForChecking!L12)>0 -> FALSE | N12: TRUE | R12: 3.1) | S12: =COUNTIF(ForCheckingProperty,ForChecking!R12)>0 -> FALSE | T12: TRUE | W12: 3) | X12: =IF(AND(D11,E11),0,IF(D11,1,2)) -> 0 | Y12: 4) | Z12: =IF(AND(G11,H11),0,IF(G11,1,2)) -> 0 | AA12: 3) | AB12: =IF(AND(J11,K11),0,IF(J11,1,2)) -> 0 | AC12: 2.1) | AD12: =IF(AND(M11,N11),0,IF(M11,1,2)) -> 2 | AE12: 3) | AF12: =IF(AND(P11,Q11),0,IF(P11,1,2)) -> 1 | AG12: 3) | AH12: =IF(AND(S11,T11),0,IF(S11,1,2)) -> 0
C13: 5) | D13: =COUNTIF(ForCheckingPersonalInfo,ForChecking!C13)>0 -> TRUE | E13: TRUE | F13: 5) | G13: =COUNTIF(ForCheckingEducWork,ForChecking!F13)>0 -> TRUE | H13: TRUE | I13: 4) | J13: =COUNTIF(ForCheckingRelation,ForChecking!I13)>0 -> TRUE | K13: FALSE | L13: 3) | M13: =COUNTIF(ForCheckingCharges,ForChecking!L13)>0 -> TRUE | N13: TRUE | R13: 3.2) | S13: =COUNTIF(ForCheckingProperty,ForChecking!R13)>0 -> TRUE | T13: FALSE | W13: 4) | X13: =IF(AND(D12,E12),0,IF(D12,1,2)) -> 0 | Y13: 4.1) | Z13: =IF(AND(G12,H12),0,IF(G12,1,2)) -> 2 | AA13: 3.1) | AB13: =IF(AND(J12,K12),0,IF(J12,1,2)) -> 2 | AC13: 2.2) | AD13: =IF(AND(M12,N12),0,IF(M12,1,2)) -> 2 | AG13: 3.1) | AH13: =IF(AND(S12,T12),0,IF(S12,1,2)) -> 2
C14: 6) | D14: =COUNTIF(ForCheckingPersonalInfo,ForChecking!C14)>0 -> TRUE | E14: TRUE | F14: 5.1) | G14: =COUNTIF(ForCheckingEducWork,ForChecking!F14)>0 -> FALSE | H14: TRUE | L14: 3.1) | M14: =COUNTIF(ForCheckingCharges,ForChecking!L14)>0 -> FALSE | N14: TRUE | R14: 4) | S14: =COUNTIF(ForCheckingProperty,ForChecking!R14)>0 -> TRUE | T14: TRUE | W14: 5) | X14: =IF(AND(D13,E13),0,IF(D13,1,2)) -> 0 | Y14: 5) | Z14: =IF(AND(G13,H13),0,IF(G13,1,2)) -> 0 | AA14: 4) | AB14: =IF(AND(J13,K13),0,IF(J13,1,2)) -> 1 | AC14: 3) | AD14: =IF(AND(M13,N13),0,IF(M13,1,2)) -> 0 | AG14: 3.2) | AH14: =IF(AND(S13,T13),0,IF(S13,1,2)) -> 1
C15: 6.1) | D15: =COUNTIF(ForCheckingPersonalInfo,ForChecking!C15)>0 -> FALSE | E15: TRUE | F15: 6) | G15: =COUNTIF(ForCheckingEducWork,ForChecking!F15)>0 -> TRUE | H15: TRUE | L15: 3.2) | M15: =COUNTIF(ForCheckingCharges,ForChecking!L15)>0 -> TRUE | N15: TRUE | R15: 4.1) | S15: =COUNTIF(ForCheckingProperty,ForChecking!R15)>0 -> FALSE | T15: TRUE | W15: 6) | X15: =IF(AND(D14,E14),0,IF(D14,1,2)) -> 0 | Y15: 5.1) | Z15: =IF(AND(G14,H14),0,IF(G14,1,2)) -> 2 | AC15: 3.1) | AD15: =IF(AND(M14,N14),0,IF(M14,1,2)) -> 2 | AG15: 4) | AH15: =IF(AND(S14,T14),0,IF(S14,1,2)) -> 0
C16: 7) | D16: =COUNTIF(ForCheckingPersonalInfo,ForChecking!C16)>0 -> TRUE | E16: TRUE | F16: 6.1) | G16: =COUNTIF(ForCheckingEducWork,ForChecking!F16)>0 -> FALSE | H16: TRUE | L16: 3.3) | M16: =COUNTIF(ForCheckingCharges,ForChecking!L16)>0 -> FALSE | N16: TRUE | R16: 4.2) | S16: =COUNTIF(ForCheckingProperty,ForChecking!R16)>0 -> TRUE | T16: FALSE | W16: 6.1) | X16: =IF(AND(D15,E15),0,IF(D15,1,2)) -> 2 | Y16: 6) | Z16: =IF(AND(G15,H15),0,IF(G15,1,2)) -> 0 | AC16: 3.2) | AD16: =IF(AND(M15,N15),0,IF(M15,1,2)) -> 0 | AG16: 4.1) | AH16: =IF(AND(S15,T15),0,IF(S15,1,2)) -> 2
C17: 8) | D17: =COUNTIF(ForCheckingPersonalInfo,ForChecking!C17)>0 -> TRUE | E17: TRUE | F17: 7) | G17: =COUNTIF(ForCheckingEducWork,ForChecking!F17)>0 -> TRUE | H17: TRUE | L17: 4) | M17: =COUNTIF(ForCheckingCharges,ForChecking!L17)>0 -> TRUE | N17: TRUE | R17: 5) | S17: =COUNTIF(ForCheckingProperty,ForChecking!R17)>0 -> TRUE | T17: TRUE | W17: 7) | X17: =IF(AND(D16,E16),0,IF(D16,1,2)) -> 0 | Y17: 6.1) | Z17: =IF(AND(G16,H16),0,IF(G16,1,2)) -> 2 | AC17: 3.3) | AD17: =IF(AND(M16,N16),0,IF(M16,1,2)) -> 2 | AG17: 4.2) | AH17: =IF(AND(S16,T16),0,IF(S16,1,2)) -> 1
C18: 9) | D18: =COUNTIF(ForCheckingPersonalInfo,ForChecking!C18)>0 -> TRUE | E18: TRUE | F18: 7.1) | G18: =COUNTIF(ForCheckingEducWork,ForChecking!F18)>0 -> FALSE | H18: TRUE | L18: 4.1) | M18: =COUNTIF(ForCheckingCharges,ForChecking!L18)>0 -> FALSE | N18: TRUE | R18: 5.1) | S18: =COUNTIF(ForCheckingProperty,ForChecking!R18)>0 -> FALSE | T18: TRUE | W18: 8) | X18: =IF(AND(D17,E17),0,IF(D17,1,2)) -> 0 | Y18: 7) | Z18: =IF(AND(G17,H17),0,IF(G17,1,2)) -> 0 | AC18: 4) | AD18: =IF(AND(M17,N17),0,IF(M17,1,2)) -> 0 | AG18: 5) | AH18: =IF(AND(S17,T17),0,IF(S17,1,2)) -> 0
C19: 9.1) | D19: =COUNTIF(ForCheckingPersonalInfo,ForChecking!C19)>0 -> FALSE | E19: TRUE | F19: 8) | G19: =COUNTIF(ForCheckingEducWork,ForChecking!F19)>0 -> TRUE | H19: TRUE | L19: 4.2) | M19: =COUNTIF(ForCheckingCharges,ForChecking!L19)>0 -> TRUE | N19: FALSE | R19: 6) | S19: =COUNTIF(ForCheckingProperty,ForChecking!R19)>0 -> TRUE | T19: TRUE | W19: 9) | X19: =IF(AND(D18,E18),0,IF(D18,1,2)) -> 0 | Y19: 7.1) | Z19: =IF(AND(G18,H18),0,IF(G18,1,2)) -> 2 | AC19: 4.1) | AD19: =IF(AND(M18,N18),0,IF(M18,1,2)) -> 2 | AG19: 5.1) | AH19: =IF(AND(S18,T18),0,IF(S18,1,2)) -> 2
C20: 10) | D20: =COUNTIF(ForCheckingPersonalInfo,ForChecking!C20)>0 -> TRUE | E20: FALSE | F20: 8.1) | G20: =COUNTIF(ForCheckingEducWork,ForChecking!F20)>0 -> FALSE | H20: TRUE | L20: 5) | M20: =COUNTIF(ForCheckingCharges,ForChecking!L20)>0 -> TRUE | N20: TRUE | R20: 6.1) | S20: =COUNTIF(ForCheckingProperty,ForChecking!R20)>0 -> FALSE | T20: TRUE | W20: 9.1) | X20: =IF(AND(D19,E19),0,IF(D19,1,2)) -> 2 | Y20: 8) | Z20: =IF(AND(G19,H19),0,IF(G19,1,2)) -> 0 | AC20: 4.2) | AD20: =IF(AND(M19,N19),0,IF(M19,1,2)) -> 1 | AG20: 6) | AH20: =IF(AND(S19,T19),0,IF(S19,1,2)) -> 0
F21: 9) | G21: =COUNTIF(ForCheckingEducWork,ForChecking!F21)>0 -> TRUE | H21: TRUE | L21: 5.1) | M21: =COUNTIF(ForCheckingCharges,ForChecking!L21)>0 -> FALSE | N21: TRUE | R21: 7) | S21: =COUNTIF(ForCheckingProperty,ForChecking!R21)>0 -> TRUE | T21: TRUE | W21: 10) | X21: =IF(AND(D20,E20),0,IF(D20,1,2)) -> 1 | Y21: 8.1) | Z21: =IF(AND(G20,H20),0,IF(G20,1,2)) -> 2 | AC21: 5) | AD21: =IF(AND(M20,N20),0,IF(M20,1,2)) -> 0 | AG21: 6.1) | AH21: =IF(AND(S20,T20),0,IF(S20,1,2)) -> 2
F22: 9.1) | G22: =COUNTIF(ForCheckingEducWork,ForChecking!F22)>0 -> FALSE | H22: TRUE | L22: 5.2) | M22: =COUNTIF(ForCheckingCharges,ForChecking!L22)>0 -> FALSE | N22: FALSE | R22: 7.1) | S22: =COUNTIF(ForCheckingProperty,ForChecking!R22)>0 -> FALSE | T22: TRUE | Y22: 9) | Z22: =IF(AND(G21,H21),0,IF(G21,1,2)) -> 0 | AC22: 5.1) | AD22: =IF(AND(M21,N21),0,IF(M21,1,2)) -> 2 | AG22: 7) | AH22: =IF(AND(S21,T21),0,IF(S21,1,2)) -> 0
F23: 10) | G23: =COUNTIF(ForCheckingEducWork,ForChecking!F23)>0 -> TRUE | H23: FALSE | L23: 6) | M23: =COUNTIF(ForCheckingCharges,ForChecking!L23)>0 -> TRUE | N23: TRUE | R23: 7.2) | S23: =COUNTIF(ForCheckingProperty,ForChecking!R23)>0 -> TRUE | T23: FALSE | Y23: 9.1) | Z23: =IF(AND(G22,H22),0,IF(G22,1,2)) -> 2 | AC23: 5.2) | AD23: =IF(AND(M22,N22),0,IF(M22,1,2)) -> 2 | AG23: 7.1) | AH23: =IF(AND(S22,T22),0,IF(S22,1,2)) -> 2
L24: 6.1) | M24: =COUNTIF(ForCheckingCharges,ForChecking!L24)>0 -> FALSE | N24: TRUE | R24: 8) | S24: =COUNTIF(ForCheckingProperty,ForChecking!R24)>0 -> TRUE | T24: TRUE | Y24: 10) | Z24: =IF(AND(G23,H23),0,IF(G23,1,2)) -> 1 | AC24: 6) | AD24: =IF(AND(M23,N23),0,IF(M23,1,2)) -> 0 | AG24: 7.2) | AH24: =IF(AND(S23,T23),0,IF(S23,1,2)) -> 1
L25: 6.2) | M25: =COUNTIF(ForCheckingCharges,ForChecking!L25)>0 -> TRUE | N25: FALSE | R25: 8.1) | S25: =COUNTIF(ForCheckingProperty,ForChecking!R25)>0 -> FALSE | T25: TRUE | AC25: 6.1) | AD25: =IF(AND(M24,N24),0,IF(M24,1,2)) -> 2 | AG25: 8) | AH25: =IF(AND(S24,T24),0,IF(S24,1,2)) -> 0
R26: 9) | S26: =COUNTIF(ForCheckingProperty,ForChecking!R26)>0 -> TRUE | T26: TRUE | AC26: 6.2) | AD26: =IF(AND(M25,N25),0,IF(M25,1,2)) -> 1 | AG26: 8.1) | AH26: =IF(AND(S25,T25),0,IF(S25,1,2)) -> 2
R27: 9.1) | S27: =COUNTIF(ForCheckingProperty,ForChecking!R27)>0 -> FALSE | T27: TRUE | AG27: 9) | AH27: =IF(AND(S26,T26),0,IF(S26,1,2)) -> 0
R28: 9.2) | S28: =COUNTIF(ForCheckingProperty,ForChecking!R28)>0 -> TRUE | T28: FALSE | AG28: 9.1) | AH28: =IF(AND(S27,T27),0,IF(S27,1,2)) -> 2
R29: 10) | S29: =COUNTIF(ForCheckingProperty,ForChecking!R29)>0 -> TRUE | T29: TRUE | AG29: 9.2) | AH29: =IF(AND(S28,T28),0,IF(S28,1,2)) -> 1
R30: 10.1) | S30: =COUNTIF(ForCheckingProperty,ForChecking!R30)>0 -> FALSE | T30: TRUE | AG30: 10) | AH30: =IF(AND(S29,T29),0,IF(S29,1,2)) -> 0
R31: 11) | S31: =COUNTIF(ForCheckingProperty,ForChecking!R31)>0 -> TRUE | T31: TRUE | AG31: 10.1) | AH31: =IF(AND(S30,T30),0,IF(S30,1,2)) -> 2
R32: 11.1) | S32: =COUNTIF(ForCheckingProperty,ForChecking!R32)>0 -> FALSE | T32: TRUE | AG32: 11) | AH32: =IF(AND(S31,T31),0,IF(S31,1,2)) -> 0
R33: 11.2) | S33: =COUNTIF(ForCheckingProperty,ForChecking!R33)>0 -> TRUE | T33: FALSE | AG33: 11.1) | AH33: =IF(AND(S32,T32),0,IF(S32,1,2)) -> 2
R34: 12) | S34: =COUNTIF(ForCheckingProperty,ForChecking!R34)>0 -> TRUE | T34: TRUE | AG34: 11.2) | AH34: =IF(AND(S33,T33),0,IF(S33,1,2)) -> 1
R35: 12.1) | S35: =COUNTIF(ForCheckingProperty,ForChecking!R35)>0 -> FALSE | T35: TRUE | AG35: 12) | AH35: =IF(AND(S34,T34),0,IF(S34,1,2)) -> 0
R36: 13) | S36: =COUNTIF(ForCheckingProperty,ForChecking!R36)>0 -> TRUE | T36: TRUE | AG36: 12.1) | AH36: =IF(AND(S35,T35),0,IF(S35,1,2)) -> 2
R37: 13.1) | S37: =COUNTIF(ForCheckingProperty,ForChecking!R37)>0 -> FALSE | T37: TRUE | AG37: 13) | AH37: =IF(AND(S36,T36),0,IF(S36,1,2)) -> 0
R38: 14) | S38: =COUNTIF(ForCheckingProperty,ForChecking!R38)>0 -> TRUE | T38: TRUE | AG38: 13.1) | AH38: =IF(AND(S37,T37),0,IF(S37,1,2)) -> 2
... R55: 20.2) | S55: =COUNTIF(ForCheckingProperty,ForChecking!R55)>0 -> TRUE | T55: FALSE | AG55: 20.1) | AH55: =IF(AND(S54,T54),0,IF(S54,1,2)) -> 2
AG56: 20.2) | AH56: =IF(AND(S55,T55),0,IF(S55,1,2)) -> 1

Sheet ForExtract
H15: Հարցաթերթիկի ներկայացման ամսաթիվը | J15: =QuestionnaireDate -> 0

Sheet Templates
C2: PersonalInfoQ2_1 | L2: PersonalInfoQ9_1 | S2: EducWorkQ1 | Z2: EducWorkQ2_1 | AG2: EducWorkQ3 | AN2: EducWorkQ4_1 | AU2: EducWorkQ5_1 | BB2: EducWorkQ6_1 | BI2: EducWorkQ7_1 | BP2: EducWorkQ8_1 | BW2: EducWorkQ9_1 | CD2: RelationQ1_1 | CK2: RelationQ2_1 | CR2: RelationQ3_1 | CY2: ChargesQ1_1 | DF2: ChargesQ1_2 | DM2: ChargesQ2_1 | DT2: ChargesQ2_2 | EA2: ChargesQ3_1 | EH2: ChargesQ3_3 | EO2: ChargesQ4_1 | EV2: ChargesQ5_1 | FC2: ChargesQ6_1 | FJ2: PropertyQ1_1 | FQ2: PropertyQ2_1 | FX2: PropertyQ3_1 | GE2: PropertyQ4_1 | GL2: PropertyQ5_1 | GS2: PropertyQ6_1 | GZ2: PropertyQ7_1 | HG2: PropertyQ8_1 | HN2: PropertyQ9_1 | HU2: PropertyQ10_1 | IB2: PropertyQ11_1 | II2: PropertyQ12_1 | IP2: PropertyQ13_1 | IW2: PropertyQ14_1 | JD2: PropertyQ15_1 | JK2: PropertyQ16_1 | JR2: PropertyQ17_1 | JY2: PropertyQ18_1 | KF2: PropertyQ19_1 | KM2: PropertyQ20_1
C3: RowNum | D3: Checkings | L3: RowNum | M3: Checkings | S3: RowNum | T3: Checkings | Z3: RowNum | AA3: Checkings | AG3: RowNum | AH3: Checkings | AN3: RowNum | AO3: Checkings | AU3: RowNum | AV3: Checkings | BB3: RowNum | BC3: Checkings | BI3: RowNum | BJ3: Checkings | BP3: RowNum | BQ3: Checkings | BW3: RowNum | BX3: Checkings | CD3: RowNum | CE3: Checkings | CK3: RowNum | CL3: Checkings | CR3: RowNum | CS3: Checkings | CY3: RowNum | CZ3: Checkings | DF3: RowNum | DG3: Checkings | DM3: RowNum | DN3: Checkings | DT3: RowNum | DU3: Checkings | EA3: RowNum | EB3: Checkings | EH3: RowNum | EI3: Checkings | EO3: RowNum | EP3: Checkings | EV3: RowNum | EW3: Checkings | FC3: RowNum | FD3: Checkings | FJ3: RowNum | FK3: Checkings | FQ3: RowNum | FR3: Checkings | FX3: RowNum | FY3: Checkings | GE3: RowNum | GF3: Checkings | GL3: RowNum | GM3: Checkings | GS3: RowNum | GT3: Checkings | GZ3: RowNum | HA3: Checkings | HG3: RowNum | HH3: Checkings | HN3: RowNum | HO3: Checkings | HU3: RowNum | HV3: Checkings | IB3: RowNum | IC3: Checkings | II3: RowNum | IJ3: Checkings | IP3: RowNum | IQ3: Checkings | IW3: RowNum | IX3: Checkings | JD3: RowNum | JE3: Checkings | JK3: RowNum | JL3: Checkings | JR3: RowNum | JS3: Checkings | JY3: RowNum | JZ3: Checkings | KF3: RowNum | KG3: Checkings | KM3: RowNum | KN3: Checkings
C4: 2.1) | F4: Համար | L4: 9.1) | O4: Համար | S4: 1) | V4: Համար | Z4: 2.1) | AC4: Համար | AG4: 3) | AJ4: Համար | AN4: 4.1) | AQ4: Համար | AU4: 5.1) | AX4: Համար | BB4: 6.1) | BE4: Համար | BI4: 7.1) | BL4: Համար | BP4: 8.1) | BS4: Համար | BW4: 9.1) | BZ4: Համար | CD4: 1.1) | CG4: Համար | CK4: 2.1) | CN4: Համար | CR4: 3.1) | CU4: Համար | CY4: 1.1) | DB4: Համար | DF4: 1.1) | DI4: Համար | DM4: 2.1) | DP4: Համար | DT4: 2.2) | DW4: Համար | EA4: 3.1) | ED4: Համար | EH4: 3.3) | EK4: Համար | EO4: 4.1) | ER4: Համար | EV4: 5.1) | EY4: Համար | FC4: 6.1) | FF4: Համար | FJ4: 1.1) | FM4: Համար | FQ4: 2.1) | FT4: Համար | FU4: 1 | FX4: 3.1) | GA4: Համար | GE4: 4.1) | GH4: Համար | GL4: 5.1) | GO4: Համար | GS4: 6.1) | GV4: Համար | GZ4: 7.1) | HC4: Համար | HG4: 8.1) | HJ4: Համար | HN4: 9.1) | HQ4: Համար | HU4: 10.1) | HX4: Համար | IB4: 11.1) | IE4: Համար | IF4: 1 | II4: 12.1) | IL4: Համար | IP4: 13.1) | IS4: Համար | IW4: 14.1) | IZ4: Համար | JD4: 15.1) | JG4: Համար | JK4: 16.1) | JN4: Համար | JR4: 17.1) | JU4: Համար | JY4: 18.1) | KB4: Համար | KF4: 19.1) | KI4: Համար | KM4: 20.1) | KP4: Համար
